BEGIN:VCALENDAR
VERSION:2.0
PRODID:-//okapif56cffc8.brizy.site//NONSGML kigkonsult.se iCalcreator 2.39.
 1//
CALSCALE:GREGORIAN
METHOD:PUBLISH
UID:5401dc08-70af-4c30-a91f-9b8083e8b1df
X-WR-CALNAME:okapif56cffc8.brizy.site
X-WR-CALDESC:okapif56cffc8.brizy.site
X-WR-TIMEZONE:America/Los_Angeles
X-LIC-LOCATION:America/Los_Angeles
BEGIN:VEVENT
UID:7cc9b3a4-2f97-4bd3-9d21-7abbf6dbcc28
DTSTAMP:20260419T141505Z
CLASS:PUBLIC
DTSTART;TZID=America/Los_Angeles:20260419T090000
DTEND;TZID=America/Los_Angeles:20260419T113000
SUMMARY:Sunday Service
TRANSP:OPAQUE
BEGIN:VALARM
ACTION:DISPLAY
DESCRIPTION:Sunday Service
TRIGGER:-PT15M
END:VALARM
END:VEVENT
END:VCALENDAR
